BEGIN:VCALENDAR
VERSION:2.0
PRODID:-//wp-events-plugin.com//7.2.3.1//EN
TZID:Australia/Sydney
X-WR-TIMEZONE:Australia/Sydney
BEGIN:VEVENT
UID:4@kingslangleysoccerclub.com.au
DTSTART;TZID=Australia/Sydney:20220626T090000
DTEND;TZID=Australia/Sydney:20220626T150000
DTSTAMP:20220621T121508Z
URL:https://kingslangleysoccerclub.com.au/events/football4all-gala-day-202
 2/
SUMMARY:Football4All Gala Day
DESCRIPTION:After two years of cancellations due to COVID-19\, the long-ant
 icipated Gala Day event returns to Valentine Sports Park.
LOCATION:Valentine Sports Park\, 267 Meurants Lane\, Glenwood\, New South W
 ales\, 2768\, Australia
GEO:-33.740843;150.94582
X-APPLE-STRUCTURED-LOCATION;VALUE=URI;X-ADDRESS=267 Meurants Lane\, Glenwoo
 d\, New South Wales\, 2768\, Australia;X-APPLE-RADIUS=100;X-TITLE=Valentin
 e Sports Park:geo:-33.740843,150.94582
END:VEVENT
BEGIN:VTIMEZONE
TZID:Australia/Sydney
X-LIC-LOCATION:Australia/Sydney
BEGIN:STANDARD
DTSTART:20220403T020000
TZOFFSETFROM:+1100
TZOFFSETTO:+1000
TZNAME:AEST
END:STANDARD
END:VTIMEZONE
END:VCALENDAR