BEGIN:VCALENDAR
VERSION:2.0
PRODID:-//wp-events-plugin.com//7.2.3.1//EN
TZID:Australia/Sydney
X-WR-TIMEZONE:Australia/Sydney
BEGIN:VEVENT
UID:97@kingslangleysoccerclub.com.au
DTSTART;TZID=Australia/Sydney:20250727T150000
DTEND;TZID=Australia/Sydney:20250727T180000
DTSTAMP:20250701T121037Z
URL:https://kingslangleysoccerclub.com.au/events/2025-family-bingo/
SUMMARY:2025 Family Bingo
DESCRIPTION:Bingo is on again for 2025!\n\nWhere: Seven Hills High School H
 all (49 Johnson Avenue\, Seven Hills)\n\nWhen: 3pm to 6pm (doors open 2:30
 pm)\n\nTickets: available for purchase now online at go.klsfc.club/bingo-t
 ix\n\n 	$10 Adults (17+)\n 	$5 Children (16 and under)\n 	$30 Family of Fi
 ve (2 x Adults and 3 x Children)\n\nA selection of snacks and drinks will 
 be available to purchase on the day. \n\nYou can BYO snacks and drinks bu
 t NO ALCOHOL is permitted in the Hall or on school grounds.
ATTACH;FMTTYPE=image/jpeg:https://kingslangleysoccerclub.com.au/wp-content
 /uploads/2024/06/bingo_banner_web.png
CATEGORIES:Social
LOCATION:Seven Hills High School\, 49 Johnson Avenue\, Seven Hills\, NSW\, 
 2147\, Aruba
GEO:-33.76211;150.943363
X-APPLE-STRUCTURED-LOCATION;VALUE=URI;X-ADDRESS=49 Johnson Avenue\, Seven H
 ills\, NSW\, 2147\, Aruba;X-APPLE-RADIUS=100;X-TITLE=Seven Hills High Scho
 ol:geo:-33.76211,150.943363
END:VEVENT
BEGIN:VTIMEZONE
TZID:Australia/Sydney
X-LIC-LOCATION:Australia/Sydney
BEGIN:STANDARD
DTSTART:20250406T020000
TZOFFSETFROM:+1100
TZOFFSETTO:+1000
TZNAME:AEST
END:STANDARD
END:VTIMEZONE
END:VCALENDAR